BEGIN:VCALENDAR
VERSION:2.0
PRODID:-//Eventin//Event Calendar//EN
CALSCALE:GREGORIAN
METHOD:PUBLISH
BEGIN:VEVENT
UID:5786019d2a1e5b2e3761e4402cfadcd4@londoncult.co.uk
SUMMARY:Шорох между строк - театральная читк
 а с живой музыкой
DESCRIPTION:Друзья\, две наши предыдущие читки 
 прошли при полном аншлаге\, и мы спешим пр
 игласить вас на нашу следующую встречу 26 
 апреля.\nВ программе «Шорох между строк» 
 прозвучат тексты мастеров мистики и фэнт
 ези: Рэя Брэдбери\, Роберта Блоха\, Генри С
 лизара\, Стивена Кинга\, Брэма Стокера и Э
 дгара Аллана По.\nЖивая музыка - ханг\, ках
 он\, бонги\, тамбурин\, шейкеры и электронн
 ые семплеры\, так органично сочетающиеся 
 с текстами этих жанров - помогут выразить
  то\, что часто остается неуловимым между 
 строк\, воображением и реальностью.\n📚Ме
 роприятие рассчитано на зрителей 13+\n⌛️90
  минут\nЧитает Дина Бердникова - актриса\, 
 популяризатор вдумчивого чтения\, основа
 тель международного книжного клуба Bukutoku.
 \nИграет - Евгений Костиц\, известный укра
 инско-греческий музыкант (Jamala\, KAZKA)\, а так
 же музыкальный директор\, который работа
 ет с лауреатами Grammy и Eurovision.
LOCATION:Arc Space\, 13 Tottenham Mews\, second floor\, London\, W1T4AQ
DTSTAMP:20260420T104116Z
DTSTART:20260426T180000Z
DTEND:20260426T193000Z
END:VEVENT
END:VCALENDAR
