BEGIN:VCALENDAR
VERSION:2.0
PRODID:-//Eventin//Event Calendar//EN
CALSCALE:GREGORIAN
METHOD:PUBLISH
BEGIN:VEVENT
UID:d268bf7e5c3f5313d28073b0581abf64@londoncult.co.uk
SUMMARY:JAZZ ACROSS THE HEIGHTS – Летний фестиваль в Су
 ррее
DESCRIPTION:Летний загородный фестиваль в Сур
 рее с джазом\, кабаре и живой музыкой\, вид
 ами на закат\, едой\, напитками и расслабл
 енной семейной атмосферой.\nJazz Across the Heights 
 – Summer Festival21 июня 2026 | The Barn at Botley Hill\, Сурре
 й\nВ день летнего солнцестояния Jazz Across the H
 eights возвращается как однодневный загоро
 дный фестиваль среди холмов Суррея. Впер
 вые запущенный в прошлом году как камерн
 ая встреча в The Barn at Botley Hill\, проект теперь 
 превращается в более масштабное\, тщател
 ьно продуманное летнее событие\, сосредо
 точенное на атмосфере\, музыке и общении.\
 nНа фоне панорамных видов и открытого неб
 а фестиваль объединяет живую музыку\, при
 роду и изысканный\, но при этом непринужд
 ённый отдых. Гостей приглашают провести 
 день на свежем воздухе\, встречаясь с дру
 зьями и семьёй\, наслаждаясь едой и напит
 ками и погружаясь в музыкальное путешест
 вие\, которое плавно переходит в закат.\nП
 рограмма охватывает традиционный джаз\, 
 кабаре\, фанк и грув\, переходя от лёгкой д
 невной атмосферы к вечерней энергетике. 
 Особым событием станет выступление груп
 пы Ninochka Band\, сочетающей клезмер\, ирландск
 ие ритмы и цыганский джаз. Также в програ
 мме — кабаре-выступление Vero Cabaret с живым 
 вокалом и театральными элементами\, а так
 же концерт Daniel Kabakov Duo с контрабасом\, пред
 ставляющий джазовые стандарты в камерно
 й и выразительной манере.\nСостав участни
 ков:\n\n\nDaniel Kabakov\n\n\nNinochka Band\n\n\nVero Cabaret\n\n\nЗа
 крывающий DJ-сет в стиле Funky Jazz\n\n\nБлагодар
 я тёплой\, семейной атмосфере и тщательно
  подобранной программе Jazz Across the Heights пред
 лагает летний отдых\, наполненный музыко
 й\, природой и общими впечатлениями. Прис
 оединяйтесь к празднованию летнего солн
 цестояния в сельской местности Суррея.\n
 📍 The Barn at Botley Hill\, Limpsfield Road\, Titsey Hill\, Surrey\, CR6
  9QH\n🗓 Воскресенье\, 21 июня · Начало в 15:00 
 — окончание в 22:00\n🎟 Билеты от £25\, дети д
 о 9 лет проходят бесплатно
LOCATION:The Barn at Botley Hill\, Limpsfield Road\, Titsey Hill\, Surrey\,
  CR6 9QH
DTSTAMP:20260426T023247Z
DTSTART:20260621T140000Z
DTEND:20260621T210000Z
END:VEVENT
END:VCALENDAR
